BEGIN:VCALENDAR
VERSION:2.0
PRODID:SchoolNow
CALSCALE:GREGORIAN
BEGIN:VEVENT
UID:c11f6416-fb18-11e9-929a-12430a636398
DTSTAMP:20191209T171126Z
SUMMARY:CDD Board Meeting - Oct. 2019
LOCATION:Country Walk Clubhouse\, 30400 CountryPoint Boulevard Wesley Chape
 l\, FL 33543\, United States
URL;VALUE=URI:https://www.countrywalkcdd.org/calendar/2135887/cdd-board-mee
 ting-oct-2019
DTSTART:20191010T133000Z
DTEND:20191010T153000Z
ATTACH;FILENAME=2019-10-10 Country Walk CDD Revised Final Agenda.pdf;FMTTYP
 E=application/pdf:https://campussuite-storage.s3.amazonaws.com/prod/155884
 5/0e03d0ae-d013-11e9-9173-0a75e43a450a/2024242/dd258598-1aa6-11ea-aeaa-125
 eac04026f/file/2019-10-10 Country Walk CDD Revised Final Agenda.pdf
END:VEVENT
END:VCALENDAR
