BEGIN:VCALENDAR
VERSION:2.0
PRODID:SchoolNow
CALSCALE:GREGORIAN
BEGIN:VEVENT
UID:3bafcdd8-d4b8-11e9-a915-121d44a1e42a
DTSTAMP:20191114T134326Z
SUMMARY:CDD Board Meeting - Aug. 2019
URL;VALUE=URI:https://www.countrywalkcdd.org/calendar/2090620/cdd-board-mee
 ting-aug-2019
DTSTART:20190805T093000Z
DTEND:20190805T103000Z
END:VEVENT
END:VCALENDAR
